BEGIN:VCALENDAR
VERSION:2.0
PRODID:-//Arize AI - ECPv6.15.20//NONSGML v1.0//EN
CALSCALE:GREGORIAN
METHOD:PUBLISH
X-WR-CALNAME:Arize AI
X-ORIGINAL-URL:https://arize.com
X-WR-CALDESC:Events for Arize AI
REFRESH-INTERVAL;VALUE=DURATION:PT1H
X-Robots-Tag:noindex
X-PUBLISHED-TTL:PT1H
BEGIN:VTIMEZONE
TZID:America/Los_Angeles
BEGIN:DAYLIGHT
TZOFFSETFROM:-0800
TZOFFSETTO:-0700
TZNAME:PDT
DTSTART:20230312T100000
END:DAYLIGHT
BEGIN:STANDARD
TZOFFSETFROM:-0700
TZOFFSETTO:-0800
TZNAME:PST
DTSTART:20231105T090000
END:STANDARD
BEGIN:DAYLIGHT
TZOFFSETFROM:-0800
TZOFFSETTO:-0700
TZNAME:PDT
DTSTART:20240310T100000
END:DAYLIGHT
BEGIN:STANDARD
TZOFFSETFROM:-0700
TZOFFSETTO:-0800
TZNAME:PST
DTSTART:20241103T090000
END:STANDARD
BEGIN:DAYLIGHT
TZOFFSETFROM:-0800
TZOFFSETTO:-0700
TZNAME:PDT
DTSTART:20250309T100000
END:DAYLIGHT
BEGIN:STANDARD
TZOFFSETFROM:-0700
TZOFFSETTO:-0800
TZNAME:PST
DTSTART:20251102T090000
END:STANDARD
END:VTIMEZONE
BEGIN:VEVENT
DTSTART;TZID=America/Los_Angeles:20240403T093000
DTEND;TZID=America/Los_Angeles:20240403T150000
DTSTAMP:20260421T035927
CREATED:20240308T001537Z
LAST-MODIFIED:20240308T001634Z
UID:10000489-1712136600-1712156400@arize.com
SUMMARY:apply(conf)
DESCRIPTION:
URL:https://arize.com/community-events/applyconf-2/
LOCATION:Virtual\, United States
END:VEVENT
BEGIN:VEVENT
DTSTART;TZID=America/Los_Angeles:20240403T101500
DTEND;TZID=America/Los_Angeles:20240403T110000
DTSTAMP:20260421T035927
CREATED:20240401T175558Z
LAST-MODIFIED:20240401T175558Z
UID:10000499-1712139300-1712142000@arize.com
SUMMARY:Community Paper Reading: Chronos – Learning the Language of Time Series
DESCRIPTION:
URL:https://arize.com/community-events/community-paper-reading-chronos-learning-the-language-of-time-series/
LOCATION:Virtual\, United States
END:VEVENT
END:VCALENDAR