BEGIN:VCALENDAR
VERSION:2.0
PRODID:-//Arize AI - ECPv6.15.20//NONSGML v1.0//EN
CALSCALE:GREGORIAN
METHOD:PUBLISH
X-ORIGINAL-URL:https://arize.com
X-WR-CALDESC:Events for Arize AI
REFRESH-INTERVAL;VALUE=DURATION:PT1H
X-Robots-Tag:noindex
X-PUBLISHED-TTL:PT1H
BEGIN:VTIMEZONE
TZID:America/Los_Angeles
BEGIN:DAYLIGHT
TZOFFSETFROM:-0800
TZOFFSETTO:-0700
TZNAME:PDT
DTSTART:20230312T100000
END:DAYLIGHT
BEGIN:STANDARD
TZOFFSETFROM:-0700
TZOFFSETTO:-0800
TZNAME:PST
DTSTART:20231105T090000
END:STANDARD
BEGIN:DAYLIGHT
TZOFFSETFROM:-0800
TZOFFSETTO:-0700
TZNAME:PDT
DTSTART:20240310T100000
END:DAYLIGHT
BEGIN:STANDARD
TZOFFSETFROM:-0700
TZOFFSETTO:-0800
TZNAME:PST
DTSTART:20241103T090000
END:STANDARD
BEGIN:DAYLIGHT
TZOFFSETFROM:-0800
TZOFFSETTO:-0700
TZNAME:PDT
DTSTART:20250309T100000
END:DAYLIGHT
BEGIN:STANDARD
TZOFFSETFROM:-0700
TZOFFSETTO:-0800
TZNAME:PST
DTSTART:20251102T090000
END:STANDARD
END:VTIMEZONE
BEGIN:VTIMEZONE
TZID:America/New_York
BEGIN:DAYLIGHT
TZOFFSETFROM:-0500
TZOFFSETTO:-0400
TZNAME:EDT
DTSTART:20230312T070000
END:DAYLIGHT
BEGIN:STANDARD
TZOFFSETFROM:-0400
TZOFFSETTO:-0500
TZNAME:EST
DTSTART:20231105T060000
END:STANDARD
BEGIN:DAYLIGHT
TZOFFSETFROM:-0500
TZOFFSETTO:-0400
TZNAME:EDT
DTSTART:20240310T070000
END:DAYLIGHT
BEGIN:STANDARD
TZOFFSETFROM:-0400
TZOFFSETTO:-0500
TZNAME:EST
DTSTART:20241103T060000
END:STANDARD
BEGIN:DAYLIGHT
TZOFFSETFROM:-0500
TZOFFSETTO:-0400
TZNAME:EDT
DTSTART:20250309T070000
END:DAYLIGHT
BEGIN:STANDARD
TZOFFSETFROM:-0400
TZOFFSETTO:-0500
TZNAME:EST
DTSTART:20251102T060000
END:STANDARD
END:VTIMEZONE
BEGIN:VEVENT
DTSTART;TZID=America/Los_Angeles:20240416T094500
DTEND;TZID=America/Los_Angeles:20240416T100500
DTSTAMP:20260421T040010
CREATED:20240415T173259Z
LAST-MODIFIED:20240415T173347Z
UID:10000502-1713260700-1713261900@arize.com
SUMMARY:Epic AI Agents Summit: The Five Pillars for Successfully Observing LLM Apps in Production w/ Amber Roberts
DESCRIPTION:Epic
URL:https://arize.com/community-events/epic-ai-agents-summit-the-five-pillars-for-successfully-observing-llm-apps-in-production/
LOCATION:Virtual\, United States
END:VEVENT
BEGIN:VEVENT
DTSTART;TZID=America/New_York:20240416T151000
DTEND;TZID=America/New_York:20240416T155500
DTSTAMP:20260421T040010
CREATED:20240308T002820Z
LAST-MODIFIED:20240308T002820Z
UID:10000490-1713280200-1713282900@arize.com
SUMMARY:Analytics Frontiers Conference: Generating Responsible AI in the Age of LLMs with Amber Roberts
DESCRIPTION:
URL:https://arize.com/community-events/analytics-frontiers-conference-generating-responsible-ai-in-the-age-of-llms-with-amber-roberts/
LOCATION:Charlotte\, NC
END:VEVENT
BEGIN:VEVENT
DTSTART;TZID=America/Los_Angeles:20240416T173000
DTEND;TZID=America/Los_Angeles:20240416T203000
DTSTAMP:20260421T040010
CREATED:20240411T143620Z
LAST-MODIFIED:20240411T143709Z
UID:10000501-1713288600-1713299400@arize.com
SUMMARY:Advancing Open Source LLM Evaluation\, Testing\, and Debugging
DESCRIPTION:
URL:https://arize.com/community-events/advancing-open-source-llm-evaluation-testing-and-debugging/
LOCATION:San Francisco\, CA\, San Francisco\, CA\, United States
END:VEVENT
END:VCALENDAR