BEGIN:VCALENDAR
VERSION:2.0
PRODID:-//Arize AI - ECPv6.15.20//NONSGML v1.0//EN
CALSCALE:GREGORIAN
METHOD:PUBLISH
X-ORIGINAL-URL:https://arize.com
X-WR-CALDESC:Events for Arize AI
REFRESH-INTERVAL;VALUE=DURATION:PT1H
X-Robots-Tag:noindex
X-PUBLISHED-TTL:PT1H
BEGIN:VTIMEZONE
TZID:America/Los_Angeles
BEGIN:DAYLIGHT
TZOFFSETFROM:-0800
TZOFFSETTO:-0700
TZNAME:PDT
DTSTART:20230312T100000
END:DAYLIGHT
BEGIN:STANDARD
TZOFFSETFROM:-0700
TZOFFSETTO:-0800
TZNAME:PST
DTSTART:20231105T090000
END:STANDARD
BEGIN:DAYLIGHT
TZOFFSETFROM:-0800
TZOFFSETTO:-0700
TZNAME:PDT
DTSTART:20240310T100000
END:DAYLIGHT
BEGIN:STANDARD
TZOFFSETFROM:-0700
TZOFFSETTO:-0800
TZNAME:PST
DTSTART:20241103T090000
END:STANDARD
BEGIN:DAYLIGHT
TZOFFSETFROM:-0800
TZOFFSETTO:-0700
TZNAME:PDT
DTSTART:20250309T100000
END:DAYLIGHT
BEGIN:STANDARD
TZOFFSETFROM:-0700
TZOFFSETTO:-0800
TZNAME:PST
DTSTART:20251102T090000
END:STANDARD
END:VTIMEZONE
BEGIN:VEVENT
DTSTART;TZID=America/Los_Angeles:20240627T080000
DTEND;TZID=America/Los_Angeles:20240627T141500
DTSTAMP:20260421T010943
CREATED:20240514T162410Z
LAST-MODIFIED:20240514T162410Z
UID:10000514-1719475200-1719497700@arize.com
SUMMARY:2024 Mid Year Gen AI Zoo: Building LLM Evals That Work IRL with Aparna Dhinakaran
DESCRIPTION:
URL:https://arize.com/community-events/2024-mid-year-gen-ai-zoo-building-llm-evals-that-work-irl-with-aparna-dhinakaran/
LOCATION:Virtual\, United States
END:VEVENT
BEGIN:VEVENT
DTSTART;TZID=America/Los_Angeles:20240627T090000
DTEND;TZID=America/Los_Angeles:20240627T100000
DTSTAMP:20260421T010943
CREATED:20240625T213044Z
LAST-MODIFIED:20240625T213044Z
UID:10000531-1719478800-1719482400@arize.com
SUMMARY:Powering Millions of Real-Time Rankings at GetYourGuide
DESCRIPTION:
URL:https://arize.com/community-events/powering-millions-of-real-time-rankings-at-getyourguide/
LOCATION:Virtual\, United States
END:VEVENT
BEGIN:VEVENT
DTSTART;TZID=America/Los_Angeles:20240627T142000
DTEND;TZID=America/Los_Angeles:20240627T144000
DTSTAMP:20260421T010943
CREATED:20240513T171218Z
LAST-MODIFIED:20240603T171252Z
UID:10000513-1719498000-1719499200@arize.com
SUMMARY:AI Engineer World's Fair: Building LLM Evals That Work IRL with Aparna Dhinakaran
DESCRIPTION:
URL:https://arize.com/community-events/ai-engineer-worlds-fair-building-llm-evals-that-work-irl-with-aparna-dhinakaran/
LOCATION:San Francisco\, CA\, San Francisco\, CA\, United States
END:VEVENT
END:VCALENDAR