BEGIN:VCALENDAR
VERSION:2.0
PRODID:-//Arize AI - ECPv6.15.20//NONSGML v1.0//EN
CALSCALE:GREGORIAN
METHOD:PUBLISH
X-WR-CALNAME:Arize AI
X-ORIGINAL-URL:https://arize.com
X-WR-CALDESC:Events for Arize AI
REFRESH-INTERVAL;VALUE=DURATION:PT1H
X-Robots-Tag:noindex
X-PUBLISHED-TTL:PT1H
BEGIN:VTIMEZONE
TZID:America/Los_Angeles
BEGIN:DAYLIGHT
TZOFFSETFROM:-0800
TZOFFSETTO:-0700
TZNAME:PDT
DTSTART:20230312T100000
END:DAYLIGHT
BEGIN:STANDARD
TZOFFSETFROM:-0700
TZOFFSETTO:-0800
TZNAME:PST
DTSTART:20231105T090000
END:STANDARD
BEGIN:DAYLIGHT
TZOFFSETFROM:-0800
TZOFFSETTO:-0700
TZNAME:PDT
DTSTART:20240310T100000
END:DAYLIGHT
BEGIN:STANDARD
TZOFFSETFROM:-0700
TZOFFSETTO:-0800
TZNAME:PST
DTSTART:20241103T090000
END:STANDARD
BEGIN:DAYLIGHT
TZOFFSETFROM:-0800
TZOFFSETTO:-0700
TZNAME:PDT
DTSTART:20250309T100000
END:DAYLIGHT
BEGIN:STANDARD
TZOFFSETFROM:-0700
TZOFFSETTO:-0800
TZNAME:PST
DTSTART:20251102T090000
END:STANDARD
END:VTIMEZONE
BEGIN:VEVENT
DTSTART;TZID=America/Los_Angeles:20240813T100000
DTEND;TZID=America/Los_Angeles:20240813T110000
DTSTAMP:20260420T223642
CREATED:20240731T173928Z
LAST-MODIFIED:20240731T173928Z
UID:10000432-1723543200-1723546800@arize.com
SUMMARY:AI with Assurance: Combining Guardrails and LLM Evaluations
DESCRIPTION:
URL:https://arize.com/community-events/ai-with-assurance-combining-guardrails-and-llm-evaluations/
LOCATION:Virtual\, United States
END:VEVENT
BEGIN:VEVENT
DTSTART;TZID=America/Los_Angeles:20240813T160000
DTEND;TZID=America/Los_Angeles:20240813T210000
DTSTAMP:20260420T223642
CREATED:20240613T194934Z
LAST-MODIFIED:20240613T195042Z
UID:10000526-1723564800-1723582800@arize.com
SUMMARY:RAG Hack Night at GitHub
DESCRIPTION:
URL:https://arize.com/community-events/rag-hack-night-at-github/
LOCATION:San Francisco\, CA\, San Francisco\, CA\, United States
END:VEVENT
END:VCALENDAR