BEGIN:VCALENDAR
VERSION:2.0
PRODID:-//Arize AI - ECPv6.15.20//NONSGML v1.0//EN
CALSCALE:GREGORIAN
METHOD:PUBLISH
X-WR-CALNAME:Arize AI
X-ORIGINAL-URL:https://arize.com
X-WR-CALDESC:Events for Arize AI
REFRESH-INTERVAL;VALUE=DURATION:PT1H
X-Robots-Tag:noindex
X-PUBLISHED-TTL:PT1H
BEGIN:VTIMEZONE
TZID:America/Los_Angeles
BEGIN:DAYLIGHT
TZOFFSETFROM:-0800
TZOFFSETTO:-0700
TZNAME:PDT
DTSTART:20230312T100000
END:DAYLIGHT
BEGIN:STANDARD
TZOFFSETFROM:-0700
TZOFFSETTO:-0800
TZNAME:PST
DTSTART:20231105T090000
END:STANDARD
BEGIN:DAYLIGHT
TZOFFSETFROM:-0800
TZOFFSETTO:-0700
TZNAME:PDT
DTSTART:20240310T100000
END:DAYLIGHT
BEGIN:STANDARD
TZOFFSETFROM:-0700
TZOFFSETTO:-0800
TZNAME:PST
DTSTART:20241103T090000
END:STANDARD
BEGIN:DAYLIGHT
TZOFFSETFROM:-0800
TZOFFSETTO:-0700
TZNAME:PDT
DTSTART:20250309T100000
END:DAYLIGHT
BEGIN:STANDARD
TZOFFSETFROM:-0700
TZOFFSETTO:-0800
TZNAME:PST
DTSTART:20251102T090000
END:STANDARD
END:VTIMEZONE
BEGIN:VEVENT
DTSTART;TZID=America/Los_Angeles:20240814T101500
DTEND;TZID=America/Los_Angeles:20240814T110000
DTSTAMP:20260420T223634
CREATED:20240723T171318Z
LAST-MODIFIED:20240813T181638Z
UID:10000535-1723630500-1723633200@arize.com
SUMMARY:Arize Community Paper Reading: Judging the Judges – Evaluating Alignment and Vulnerabilities in LLMs-as-Judges
DESCRIPTION:
URL:https://arize.com/community-events/community-paper-reading-judging-the-judges-evaluating-alignment-and-vulnerabilities-in-llms-as-judges/
LOCATION:Virtual\, United States
ATTACH;FMTTYPE=image/jpeg:https://arize.com/wp-content/uploads/2024/07/CPR-Judging-the-Judges-blog.jpg
END:VEVENT
END:VCALENDAR