BEGIN:VCALENDAR
VERSION:2.0
PRODID:-//Arize AI - ECPv6.15.20//NONSGML v1.0//EN
CALSCALE:GREGORIAN
METHOD:PUBLISH
X-ORIGINAL-URL:https://arize.com
X-WR-CALDESC:Events for Arize AI
REFRESH-INTERVAL;VALUE=DURATION:PT1H
X-Robots-Tag:noindex
X-PUBLISHED-TTL:PT1H
BEGIN:VTIMEZONE
TZID:America/Los_Angeles
BEGIN:DAYLIGHT
TZOFFSETFROM:-0800
TZOFFSETTO:-0700
TZNAME:PDT
DTSTART:20230312T100000
END:DAYLIGHT
BEGIN:STANDARD
TZOFFSETFROM:-0700
TZOFFSETTO:-0800
TZNAME:PST
DTSTART:20231105T090000
END:STANDARD
BEGIN:DAYLIGHT
TZOFFSETFROM:-0800
TZOFFSETTO:-0700
TZNAME:PDT
DTSTART:20240310T100000
END:DAYLIGHT
BEGIN:STANDARD
TZOFFSETFROM:-0700
TZOFFSETTO:-0800
TZNAME:PST
DTSTART:20241103T090000
END:STANDARD
BEGIN:DAYLIGHT
TZOFFSETFROM:-0800
TZOFFSETTO:-0700
TZNAME:PDT
DTSTART:20250309T100000
END:DAYLIGHT
BEGIN:STANDARD
TZOFFSETFROM:-0700
TZOFFSETTO:-0800
TZNAME:PST
DTSTART:20251102T090000
END:STANDARD
END:VTIMEZONE
BEGIN:VEVENT
DTSTART;TZID=America/Los_Angeles:20240917T120000
DTEND;TZID=America/Los_Angeles:20240917T130000
DTSTAMP:20260421T004556
CREATED:20240906T232055Z
LAST-MODIFIED:20240916T220736Z
UID:10000548-1726574400-1726578000@arize.com
SUMMARY:AI Agent Mastery Session 2 – Comparing Agent Frameworks
DESCRIPTION:
URL:https://arize.com/community-events/ai-agents-mastery-from-architecture-to-optimization-session-2-agent-frameworks/
LOCATION:Virtual\, United States
ATTACH;FMTTYPE=image/jpeg:https://arize.com/wp-content/uploads/2024/08/AI-Agent-mastery-bootcamp-LUMA.jpg
END:VEVENT
BEGIN:VEVENT
DTSTART;TZID=America/Los_Angeles:20240917T173000
DTEND;TZID=America/Los_Angeles:20240917T203000
DTSTAMP:20260421T004556
CREATED:20240815T190500Z
LAST-MODIFIED:20240815T190500Z
UID:10000447-1726594200-1726605000@arize.com
SUMMARY:Unstructured Data Meetup South Bay Edition
DESCRIPTION:
URL:https://arize.com/community-events/unstructured-data-meetup-south-bay-edition/
LOCATION:Palo Alto\, CA
END:VEVENT
END:VCALENDAR