BEGIN:VCALENDAR
VERSION:2.0
PRODID:-//Arize AI - ECPv6.15.20//NONSGML v1.0//EN
CALSCALE:GREGORIAN
METHOD:PUBLISH
X-ORIGINAL-URL:https://arize.com
X-WR-CALDESC:Events for Arize AI
REFRESH-INTERVAL;VALUE=DURATION:PT1H
X-Robots-Tag:noindex
X-PUBLISHED-TTL:PT1H
BEGIN:VTIMEZONE
TZID:America/Los_Angeles
BEGIN:DAYLIGHT
TZOFFSETFROM:-0800
TZOFFSETTO:-0700
TZNAME:PDT
DTSTART:20230312T100000
END:DAYLIGHT
BEGIN:STANDARD
TZOFFSETFROM:-0700
TZOFFSETTO:-0800
TZNAME:PST
DTSTART:20231105T090000
END:STANDARD
BEGIN:DAYLIGHT
TZOFFSETFROM:-0800
TZOFFSETTO:-0700
TZNAME:PDT
DTSTART:20240310T100000
END:DAYLIGHT
BEGIN:STANDARD
TZOFFSETFROM:-0700
TZOFFSETTO:-0800
TZNAME:PST
DTSTART:20241103T090000
END:STANDARD
BEGIN:DAYLIGHT
TZOFFSETFROM:-0800
TZOFFSETTO:-0700
TZNAME:PDT
DTSTART:20250309T100000
END:DAYLIGHT
BEGIN:STANDARD
TZOFFSETFROM:-0700
TZOFFSETTO:-0800
TZNAME:PST
DTSTART:20251102T090000
END:STANDARD
END:VTIMEZONE
BEGIN:VEVENT
DTSTART;VALUE=DATE:20241101
DTEND;VALUE=DATE:20241104
DTSTAMP:20260420T180955
CREATED:20240913T213029Z
LAST-MODIFIED:20240913T213029Z
UID:10000564-1730419200-1730678399@arize.com
SUMMARY:GPT DAO Gen AI Summit
DESCRIPTION:
URL:https://arize.com/community-events/gpt-dao-gen-ai-summit/
LOCATION:Santa Clara\, CA
END:VEVENT
BEGIN:VEVENT
DTSTART;TZID=America/Los_Angeles:20241101T080000
DTEND;TZID=America/Los_Angeles:20241101T170000
DTSTAMP:20260420T180955
CREATED:20240815T191030Z
LAST-MODIFIED:20240815T191030Z
UID:10000542-1730448000-1730480400@arize.com
SUMMARY:GenAI Summit Silicon Valley 2024
DESCRIPTION:
URL:https://arize.com/community-events/genai-summit-silicon-valley-2024/
LOCATION:Santa Clara\, CA
END:VEVENT
BEGIN:VEVENT
DTSTART;TZID=America/Los_Angeles:20241101T080000
DTEND;TZID=America/Los_Angeles:20241101T170000
DTSTAMP:20260420T180955
CREATED:20241001T221047Z
LAST-MODIFIED:20241001T221134Z
UID:10000567-1730448000-1730480400@arize.com
SUMMARY:Responsible AI Conf - Devfest Silicon Valley
DESCRIPTION:
URL:https://arize.com/community-events/responsible-ai-conf/
LOCATION:Sunnyvale\, CA
END:VEVENT
END:VCALENDAR