BEGIN:VCALENDAR
VERSION:2.0
PRODID:-//Arize AI - ECPv6.15.20//NONSGML v1.0//EN
CALSCALE:GREGORIAN
METHOD:PUBLISH
X-ORIGINAL-URL:https://arize.com
X-WR-CALDESC:Events for Arize AI
REFRESH-INTERVAL;VALUE=DURATION:PT1H
X-Robots-Tag:noindex
X-PUBLISHED-TTL:PT1H
BEGIN:VTIMEZONE
TZID:America/Los_Angeles
BEGIN:DAYLIGHT
TZOFFSETFROM:-0800
TZOFFSETTO:-0700
TZNAME:PDT
DTSTART:20240310T100000
END:DAYLIGHT
BEGIN:STANDARD
TZOFFSETFROM:-0700
TZOFFSETTO:-0800
TZNAME:PST
DTSTART:20241103T090000
END:STANDARD
BEGIN:DAYLIGHT
TZOFFSETFROM:-0800
TZOFFSETTO:-0700
TZNAME:PDT
DTSTART:20250309T100000
END:DAYLIGHT
BEGIN:STANDARD
TZOFFSETFROM:-0700
TZOFFSETTO:-0800
TZNAME:PST
DTSTART:20251102T090000
END:STANDARD
BEGIN:DAYLIGHT
TZOFFSETFROM:-0800
TZOFFSETTO:-0700
TZNAME:PDT
DTSTART:20260308T100000
END:DAYLIGHT
BEGIN:STANDARD
TZOFFSETFROM:-0700
TZOFFSETTO:-0800
TZNAME:PST
DTSTART:20261101T090000
END:STANDARD
END:VTIMEZONE
BEGIN:VEVENT
DTSTART;TZID=America/Los_Angeles:20250305T110000
DTEND;TZID=America/Los_Angeles:20250305T113000
DTSTAMP:20260420T235446
CREATED:20250207T154012Z
LAST-MODIFIED:20250207T154012Z
UID:10000604-1741172400-1741174200@arize.com
SUMMARY:LLM Observability: Tracing\, Evaluations\, and Real-Time Insights
DESCRIPTION:
URL:https://arize.com/community-events/llm-observability-tracing-evaluations-and-real-time-insights/
LOCATION:Virtual\, United States
END:VEVENT
BEGIN:VEVENT
DTSTART;TZID=America/Los_Angeles:20250305T170000
DTEND;TZID=America/Los_Angeles:20250305T203000
DTSTAMP:20260420T235446
CREATED:20250220T232820Z
LAST-MODIFIED:20250220T232840Z
UID:10000607-1741194000-1741206600@arize.com
SUMMARY:Building and Evaluating Next-Gen AI: Multimodal Models and Agents
DESCRIPTION:
URL:https://arize.com/community-events/building-and-evaluating-next-gen-ai-multimodal-models-and-agents/
LOCATION:Austin\, Texas\, Austin\, TX\, United States
END:VEVENT
END:VCALENDAR