BEGIN:VCALENDAR
VERSION:2.0
PRODID:-//Arize AI - ECPv6.15.20//NONSGML v1.0//EN
CALSCALE:GREGORIAN
METHOD:PUBLISH
X-WR-CALNAME:Arize AI
X-ORIGINAL-URL:https://arize.com
X-WR-CALDESC:Events for Arize AI
REFRESH-INTERVAL;VALUE=DURATION:PT1H
X-Robots-Tag:noindex
X-PUBLISHED-TTL:PT1H
BEGIN:VTIMEZONE
TZID:America/Los_Angeles
BEGIN:DAYLIGHT
TZOFFSETFROM:-0800
TZOFFSETTO:-0700
TZNAME:PDT
DTSTART:20240310T100000
END:DAYLIGHT
BEGIN:STANDARD
TZOFFSETFROM:-0700
TZOFFSETTO:-0800
TZNAME:PST
DTSTART:20241103T090000
END:STANDARD
BEGIN:DAYLIGHT
TZOFFSETFROM:-0800
TZOFFSETTO:-0700
TZNAME:PDT
DTSTART:20250309T100000
END:DAYLIGHT
BEGIN:STANDARD
TZOFFSETFROM:-0700
TZOFFSETTO:-0800
TZNAME:PST
DTSTART:20251102T090000
END:STANDARD
BEGIN:DAYLIGHT
TZOFFSETFROM:-0800
TZOFFSETTO:-0700
TZNAME:PDT
DTSTART:20260308T100000
END:DAYLIGHT
BEGIN:STANDARD
TZOFFSETFROM:-0700
TZOFFSETTO:-0800
TZNAME:PST
DTSTART:20261101T090000
END:STANDARD
END:VTIMEZONE
BEGIN:VEVENT
DTSTART;TZID=America/Los_Angeles:20250306T110000
DTEND;TZID=America/Los_Angeles:20250306T114500
DTSTAMP:20260420T235405
CREATED:20250211T022052Z
LAST-MODIFIED:20250227T183327Z
UID:10000606-1741258800-1741261500@arize.com
SUMMARY:[Workshop] Building an LLM Chatbot from Scratch using Evaluation Driven Development
DESCRIPTION:
URL:https://arize.com/resource/build-an-llm-chatbot-from-scratch
LOCATION:Virtual\, United States
ATTACH;FMTTYPE=image/jpeg:https://arize.com/wp-content/uploads/2025/02/Building-an-LLM-Social-noCTA-noDate-1.jpg
END:VEVENT
BEGIN:VEVENT
DTSTART;TZID=America/Los_Angeles:20250306T170000
DTEND;TZID=America/Los_Angeles:20250306T200000
DTSTAMP:20260420T235405
CREATED:20250303T180607Z
LAST-MODIFIED:20250303T180607Z
UID:10000611-1741280400-1741291200@arize.com
SUMMARY:Netskope | Agentic AI: NextGen SRE Meetup
DESCRIPTION:
URL:https://arize.com/community-events/netskope-agentic-ai-nextgen-sre-meetup/
LOCATION:Santa Clara\, CA
END:VEVENT
END:VCALENDAR