BEGIN:VCALENDAR
VERSION:2.0
PRODID:-//Arize AI - ECPv6.15.20//NONSGML v1.0//EN
CALSCALE:GREGORIAN
METHOD:PUBLISH
X-ORIGINAL-URL:https://arize.com
X-WR-CALDESC:Events for Arize AI
REFRESH-INTERVAL;VALUE=DURATION:PT1H
X-Robots-Tag:noindex
X-PUBLISHED-TTL:PT1H
BEGIN:VTIMEZONE
TZID:America/Los_Angeles
BEGIN:DAYLIGHT
TZOFFSETFROM:-0800
TZOFFSETTO:-0700
TZNAME:PDT
DTSTART:20240310T100000
END:DAYLIGHT
BEGIN:STANDARD
TZOFFSETFROM:-0700
TZOFFSETTO:-0800
TZNAME:PST
DTSTART:20241103T090000
END:STANDARD
BEGIN:DAYLIGHT
TZOFFSETFROM:-0800
TZOFFSETTO:-0700
TZNAME:PDT
DTSTART:20250309T100000
END:DAYLIGHT
BEGIN:STANDARD
TZOFFSETFROM:-0700
TZOFFSETTO:-0800
TZNAME:PST
DTSTART:20251102T090000
END:STANDARD
BEGIN:DAYLIGHT
TZOFFSETFROM:-0800
TZOFFSETTO:-0700
TZNAME:PDT
DTSTART:20260308T100000
END:DAYLIGHT
BEGIN:STANDARD
TZOFFSETFROM:-0700
TZOFFSETTO:-0800
TZNAME:PST
DTSTART:20261101T090000
END:STANDARD
END:VTIMEZONE
BEGIN:VEVENT
DTSTART;VALUE=DATE:20250514
DTEND;VALUE=DATE:20250522
DTSTAMP:20260421T024459
CREATED:20250512T195620Z
LAST-MODIFIED:20250512T195709Z
UID:10000626-1747180800-1747871999@arize.com
SUMMARY:r/AI_Agents 100k Hackathon
DESCRIPTION:
URL:https://lu.ma/ai-agents-hackathon
LOCATION:Virtual\, United States
END:VEVENT
BEGIN:VEVENT
DTSTART;TZID=America/Los_Angeles:20250521T100000
DTEND;TZID=America/Los_Angeles:20250521T110000
DTSTAMP:20260421T024459
CREATED:20250416T170710Z
LAST-MODIFIED:20250416T184353Z
UID:10000516-1747821600-1747825200@arize.com
SUMMARY:Part 3: Can Agents Evaluate Themselves? | Evaluating Al Agents with Arize Al
DESCRIPTION:
URL:https://datasciencedojo.com/event/part-3-advanced-ai-agent-evaluation/?utm_campaign=5277859-Community%20Events&#038;utm_source=linkedin&#038;utm_medium=social&#038;utm_term=meetup_evaluating_ai_agents_part_3&#038;utm_content=john_gilhuly
LOCATION:Virtual\, United States
ATTACH;FMTTYPE=image/png:https://arize.com/wp-content/uploads/2025/04/Banner-4.png
END:VEVENT
END:VCALENDAR