BEGIN:VCALENDAR
VERSION:2.0
PRODID:-//Arize AI - ECPv6.15.20//NONSGML v1.0//EN
CALSCALE:GREGORIAN
METHOD:PUBLISH
X-ORIGINAL-URL:https://arize.com
X-WR-CALDESC:Events for Arize AI
REFRESH-INTERVAL;VALUE=DURATION:PT1H
X-Robots-Tag:noindex
X-PUBLISHED-TTL:PT1H
BEGIN:VTIMEZONE
TZID:America/Los_Angeles
BEGIN:DAYLIGHT
TZOFFSETFROM:-0800
TZOFFSETTO:-0700
TZNAME:PDT
DTSTART:20240310T100000
END:DAYLIGHT
BEGIN:STANDARD
TZOFFSETFROM:-0700
TZOFFSETTO:-0800
TZNAME:PST
DTSTART:20241103T090000
END:STANDARD
BEGIN:DAYLIGHT
TZOFFSETFROM:-0800
TZOFFSETTO:-0700
TZNAME:PDT
DTSTART:20250309T100000
END:DAYLIGHT
BEGIN:STANDARD
TZOFFSETFROM:-0700
TZOFFSETTO:-0800
TZNAME:PST
DTSTART:20251102T090000
END:STANDARD
BEGIN:DAYLIGHT
TZOFFSETFROM:-0800
TZOFFSETTO:-0700
TZNAME:PDT
DTSTART:20260308T100000
END:DAYLIGHT
BEGIN:STANDARD
TZOFFSETFROM:-0700
TZOFFSETTO:-0800
TZNAME:PST
DTSTART:20261101T090000
END:STANDARD
END:VTIMEZONE
BEGIN:VEVENT
DTSTART;TZID=America/Los_Angeles:20251015T080000
DTEND;TZID=America/Los_Angeles:20251015T084500
DTSTAMP:20260421T092938
CREATED:20251013T215928Z
LAST-MODIFIED:20251013T215928Z
UID:10000646-1760515200-1760517900@arize.com
SUMMARY:PagerDutyxArize Webinar: AI Drives Modern Tech Stacks—But What Happens When It Fails?
DESCRIPTION:
URL:https://arize.com/community-events/pagerdutyxarize-webinar-ai-drives-modern-tech-stacks-but-what-happens-when-it-fails/
LOCATION:Virtual\, United States
END:VEVENT
BEGIN:VEVENT
DTSTART;TZID=America/Los_Angeles:20251015T123000
DTEND;TZID=America/Los_Angeles:20251015T131500
DTSTAMP:20260421T092938
CREATED:20251013T215833Z
LAST-MODIFIED:20251013T215833Z
UID:10000645-1760531400-1760534100@arize.com
SUMMARY:How to Navigate Binary Vs. Score Evals
DESCRIPTION:
URL:https://arize.com/community-events/how-to-navigate-binary-vs-score-evals/
LOCATION:Virtual\, United States
END:VEVENT
END:VCALENDAR