BEGIN:VCALENDAR
VERSION:2.0
PRODID:-//Arize AI - ECPv6.15.20//NONSGML v1.0//EN
CALSCALE:GREGORIAN
METHOD:PUBLISH
X-WR-CALNAME:Arize AI
X-ORIGINAL-URL:https://arize.com
X-WR-CALDESC:Events for Arize AI
REFRESH-INTERVAL;VALUE=DURATION:PT1H
X-Robots-Tag:noindex
X-PUBLISHED-TTL:PT1H
BEGIN:VTIMEZONE
TZID:America/Los_Angeles
BEGIN:DAYLIGHT
TZOFFSETFROM:-0800
TZOFFSETTO:-0700
TZNAME:PDT
DTSTART:20220313T100000
END:DAYLIGHT
BEGIN:STANDARD
TZOFFSETFROM:-0700
TZOFFSETTO:-0800
TZNAME:PST
DTSTART:20221106T090000
END:STANDARD
BEGIN:DAYLIGHT
TZOFFSETFROM:-0800
TZOFFSETTO:-0700
TZNAME:PDT
DTSTART:20230312T100000
END:DAYLIGHT
BEGIN:STANDARD
TZOFFSETFROM:-0700
TZOFFSETTO:-0800
TZNAME:PST
DTSTART:20231105T090000
END:STANDARD
BEGIN:DAYLIGHT
TZOFFSETFROM:-0800
TZOFFSETTO:-0700
TZNAME:PDT
DTSTART:20240310T100000
END:DAYLIGHT
BEGIN:STANDARD
TZOFFSETFROM:-0700
TZOFFSETTO:-0800
TZNAME:PST
DTSTART:20241103T090000
END:STANDARD
END:VTIMEZONE
BEGIN:VEVENT
DTSTART;TZID=America/Los_Angeles:20230907T173000
DTEND;TZID=America/Los_Angeles:20230907T213000
DTSTAMP:20260421T011115
CREATED:20230815T003804Z
LAST-MODIFIED:20230822T172909Z
UID:10000441-1694107800-1694122200@arize.com
SUMMARY:From Toy to Production: Building LLM-Powered Systems that Work in the Real World
DESCRIPTION:
URL:https://lu.ma/llm-powered-systems-nyc
LOCATION:NYC
ATTACH;FMTTYPE=image/jpeg:https://arize.com/wp-content/uploads/2023/08/NY-Toolchain-event-social-promo-1.jpg
END:VEVENT
BEGIN:VEVENT
DTSTART;TZID=America/Los_Angeles:20230913T101500
DTEND;TZID=America/Los_Angeles:20230913T110000
DTSTAMP:20260421T011115
CREATED:20230907T181521Z
LAST-MODIFIED:20230908T195108Z
UID:10000353-1694600100-1694602800@arize.com
SUMMARY:Community Paper Reading: Large Content And Behavior Models To Understand\, Simulate\, And Optimize Content And Behavior
DESCRIPTION:virt
URL:https://arize.com/community-events/community-paper-reading-large-content-and-behavior-models-to-understand-simulate-and-optimize-content-and-behavior/
LOCATION:Virtual\, United States
ATTACH;FMTTYPE=image/jpeg:https://arize.com/wp-content/uploads/2023/09/Community-Paper-Reading-Amber-and-Sally-Ann.jpg
END:VEVENT
BEGIN:VEVENT
DTSTART;TZID=America/Los_Angeles:20230913T130000
DTEND;TZID=America/Los_Angeles:20230913T140000
DTSTAMP:20260421T011115
CREATED:20230829T200741Z
LAST-MODIFIED:20230911T215024Z
UID:10000449-1694610000-1694613600@arize.com
SUMMARY:Building And Troubleshooting An Advanced LLM Query Engine
DESCRIPTION:
URL:https://lu.ma/Advanced-LLM-Query-Engine-Virtual
LOCATION:Virtual\, United States
ATTACH;FMTTYPE=image/png:https://arize.com/wp-content/uploads/2023/08/ZillizSocial_Linkedin-1200x627-1.png
END:VEVENT
BEGIN:VEVENT
DTSTART;TZID=America/Los_Angeles:20230914T080000
DTEND;TZID=America/Los_Angeles:20230914T130000
DTSTAMP:20260421T011115
CREATED:20230907T163742Z
LAST-MODIFIED:20230907T163938Z
UID:10000452-1694678400-1694696400@arize.com
SUMMARY:LLMs and the Generative AI Revolution
DESCRIPTION:
URL:https://arize.com/community-events/llms-and-the-generative-ai-revolution/
LOCATION:Virtual\, United States
ATTACH;FMTTYPE=image/png:https://arize.com/wp-content/uploads/2023/09/Amber-Roberts-1200x628-1.png
END:VEVENT
BEGIN:VEVENT
DTSTART;TZID=America/Los_Angeles:20230919T090000
DTEND;TZID=America/Los_Angeles:20230919T093000
DTSTAMP:20260421T011115
CREATED:20230831T194549Z
LAST-MODIFIED:20230909T003908Z
UID:10000451-1695114000-1695115800@arize.com
SUMMARY:Agents\, Tools\, and Chains for LLMOps – Part 1
DESCRIPTION:
URL:https://arize.com/community-events/agents-tools-and-chains-for-llmops/
LOCATION:Virtual\, United States
CATEGORIES:Workshop Series
ATTACH;FMTTYPE=image/jpeg:https://arize.com/wp-content/uploads/2023/08/Agents-Tools-and-Chains-for-LLMOps-Workshop-Series-Linkedin.jpg
END:VEVENT
BEGIN:VEVENT
DTSTART;TZID=America/Los_Angeles:20230926T090000
DTEND;TZID=America/Los_Angeles:20230926T093000
DTSTAMP:20260421T011115
CREATED:20230909T003850Z
LAST-MODIFIED:20230909T003850Z
UID:10000356-1695718800-1695720600@arize.com
SUMMARY:Agents\, Tools\, and Chains for LLMOps – Part 2
DESCRIPTION:
URL:https://arize.com/community-events/agents-tools-and-chains-for-llmops-part-2/
LOCATION:Virtual\, United States
CATEGORIES:Workshop Series
ATTACH;FMTTYPE=image/jpeg:https://arize.com/wp-content/uploads/2023/08/Agents-Tools-and-Chains-for-LLMOps-Workshop-Series-Linkedin.jpg
END:VEVENT
BEGIN:VEVENT
DTSTART;TZID=America/Los_Angeles:20230927T101500
DTEND;TZID=America/Los_Angeles:20230927T110000
DTSTAMP:20260421T011115
CREATED:20230926T174429Z
LAST-MODIFIED:20230926T174457Z
UID:10000368-1695809700-1695812400@arize.com
SUMMARY:Community Paper Reading: Explaining Grokking Through Circuit Efficiency
DESCRIPTION:
URL:https://arize.com/community-events/community-paper-reading-explaining-grokking-through-circuit-efficiency/
LOCATION:Virtual\, United States
ATTACH;FMTTYPE=image/jpeg:https://arize.com/wp-content/uploads/2023/09/Community-Paper-Reading-Michael-and-Jason-16_9.jpg
END:VEVENT
BEGIN:VEVENT
DTSTART;TZID=America/Los_Angeles:20230928T173000
DTEND;TZID=America/Los_Angeles:20230928T203000
DTSTAMP:20260421T011115
CREATED:20230908T233307Z
LAST-MODIFIED:20230913T223639Z
UID:10000354-1695922200-1695933000@arize.com
SUMMARY:Pushing RAG to Production and Troubleshooting LLM Apps
DESCRIPTION:Join us for an exclusive evening focused on “Pushing RAG to Production and Troubleshooting LLM Apps” and innovative methodologies to evaluate and troubleshoot LLMs in a production environment. Co-hosted by Arize AI\, Unstructured.io\, and Weaviate\, this event is a must-attend for industry professionals\, from startups to established enterprises\, interested in the latest development paradigms and deployment strategies in generative AI and LLM Apps. \nAgenda: \n\n5:30 PM – 6:00 PM: Arrival & Networking\nEnjoy complimentary food and drinks as you connect with like-minded professionals.\n6:00 PM – 6:45 PM: LLM App Builders Discussion\nTopics: \n\nPushing RAG to Production\nMethodologies to Evaluate and Troubleshoot LLMs in a Production Environment\nBest Practices in Generative AI Development and Deployment\n\n\n6:45 – 7:00 PM: Q&A Session\nYour opportunity to delve deeper and interact with our panelists.\n7:00 PM – 7:30 PM: Lightning Demos with Hands-On Experience\nWitness hands-on demos designed to help you understand how to diagnose and resolve common issues in both RAG and LLM technologies.\n7:30 PM – 8:30 PM: Networking\n\n 
URL:https://arize.com/resource/pushing-rag-to-production/
LOCATION:San Francisco\, CA\, San Francisco\, CA\, United States
ATTACH;FMTTYPE=image/jpeg:https://arize.com/wp-content/uploads/2023/09/Pushing-RAG-logos-Linkedin.jpg
END:VEVENT
END:VCALENDAR