BEGIN:VCALENDAR
VERSION:2.0
PRODID:-//Arize AI - ECPv6.15.20//NONSGML v1.0//EN
CALSCALE:GREGORIAN
METHOD:PUBLISH
X-WR-CALNAME:Arize AI
X-ORIGINAL-URL:https://arize.com
X-WR-CALDESC:Events for Arize AI
REFRESH-INTERVAL;VALUE=DURATION:PT1H
X-Robots-Tag:noindex
X-PUBLISHED-TTL:PT1H
BEGIN:VTIMEZONE
TZID:America/Los_Angeles
BEGIN:DAYLIGHT
TZOFFSETFROM:-0800
TZOFFSETTO:-0700
TZNAME:PDT
DTSTART:20220313T100000
END:DAYLIGHT
BEGIN:STANDARD
TZOFFSETFROM:-0700
TZOFFSETTO:-0800
TZNAME:PST
DTSTART:20221106T090000
END:STANDARD
BEGIN:DAYLIGHT
TZOFFSETFROM:-0800
TZOFFSETTO:-0700
TZNAME:PDT
DTSTART:20230312T100000
END:DAYLIGHT
BEGIN:STANDARD
TZOFFSETFROM:-0700
TZOFFSETTO:-0800
TZNAME:PST
DTSTART:20231105T090000
END:STANDARD
BEGIN:DAYLIGHT
TZOFFSETFROM:-0800
TZOFFSETTO:-0700
TZNAME:PDT
DTSTART:20240310T100000
END:DAYLIGHT
BEGIN:STANDARD
TZOFFSETFROM:-0700
TZOFFSETTO:-0800
TZNAME:PST
DTSTART:20241103T090000
END:STANDARD
END:VTIMEZONE
BEGIN:VEVENT
DTSTART;TZID=America/Los_Angeles:20231205T100000
DTEND;TZID=America/Los_Angeles:20231205T103000
DTSTAMP:20260421T080616
CREATED:20231129T183224Z
LAST-MODIFIED:20231129T183224Z
UID:10000467-1701770400-1701772200@arize.com
SUMMARY:Classes of LLM Evaluations: A Deep-Dive
DESCRIPTION:
URL:https://arize.com/community-events/classes-of-llm-evaluations-a-deep-dive/
LOCATION:Virtual\, United States
ATTACH;FMTTYPE=image/jpeg:https://arize.com/wp-content/uploads/2023/11/Advanced-LLM-Evals-series-Linkedin-Part-3.jpg
END:VEVENT
BEGIN:VEVENT
DTSTART;TZID=America/Los_Angeles:20231206T130000
DTEND;TZID=America/Los_Angeles:20231206T134500
DTSTAMP:20260421T080616
CREATED:20231204T164436Z
LAST-MODIFIED:20231204T164630Z
UID:10000469-1701867600-1701870300@arize.com
SUMMARY:Community Paper Reading [ft. LLM Researcher & author Shuaichen Chang] How to Prompt LLMs for Text-to-SQL: A Study in Zero-shot\, Single-domain\, and Cross-domain Settings
DESCRIPTION:
URL:https://arize.com/community-events/community-paper-reading-with-the-author-how-to-prompt-llms-for-text-to-sql-a-study-in-zero-shot-single-domain-and-cross-domain-settings/
LOCATION:Virtual\, United States
END:VEVENT
BEGIN:VEVENT
DTSTART;TZID=America/Los_Angeles:20231209T120000
DTEND;TZID=America/Los_Angeles:20231209T200000
DTSTAMP:20260421T080616
CREATED:20231117T001300Z
LAST-MODIFIED:20231117T001300Z
UID:10000464-1702123200-1702152000@arize.com
SUMMARY:AGI House Hackathon: Optimize Your LLM Stack
DESCRIPTION:
URL:https://arize.com/community-events/agi-house-hackathon-optimize-your-llm-stack/
LOCATION:AGI House
END:VEVENT
BEGIN:VEVENT
DTSTART;TZID=America/Los_Angeles:20231212T100000
DTEND;TZID=America/Los_Angeles:20231212T103000
DTSTAMP:20260421T080616
CREATED:20231129T183405Z
LAST-MODIFIED:20231129T183405Z
UID:10000468-1702375200-1702377000@arize.com
SUMMARY:Dataset and Synthetic Data Generation for LLM Evaluations
DESCRIPTION:
URL:https://arize.com/community-events/dataset-and-synthetic-data-generation-for-llm-evaluations/
LOCATION:Virtual\, United States
ATTACH;FMTTYPE=image/jpeg:https://arize.com/wp-content/uploads/2023/11/Advanced-LLM-Evals-series-Linkedin-Part-4.jpg
END:VEVENT
BEGIN:VEVENT
DTSTART;TZID=America/Los_Angeles:20231213T173000
DTEND;TZID=America/Los_Angeles:20231213T203000
DTSTAMP:20260421T080616
CREATED:20231120T225544Z
LAST-MODIFIED:20231129T183046Z
UID:10000465-1702488600-1702499400@arize.com
SUMMARY:Fine-Tuning and Evaluating LLM Retrieval Models with Anyscale and Arize
DESCRIPTION:
URL:https://arize.com/community-events/fine-tuning-and-evaluating-llm-retrieval-models-with-anyscale-and-arize/
LOCATION:San Francisco\, CA\, San Francisco\, CA\, United States
ATTACH;FMTTYPE=image/jpeg:https://arize.com/wp-content/uploads/2023/11/Fine-Tuning-and-Evaluating-LLM-Linkedin-1-1.jpg
END:VEVENT
BEGIN:VEVENT
DTSTART;TZID=America/Los_Angeles:20231214T180000
DTEND;TZID=America/Los_Angeles:20231214T200000
DTSTAMP:20260421T080616
CREATED:20231211T193528Z
LAST-MODIFIED:20231211T193702Z
UID:10000470-1702576800-1702584000@arize.com
SUMMARY:AI For Developers
DESCRIPTION:
URL:https://arize.com/community-events/ai-for-developers/
LOCATION:San Francisco\, CA\, San Francisco\, CA\, United States
END:VEVENT
BEGIN:VEVENT
DTSTART;TZID=America/Los_Angeles:20231215T090000
DTEND;TZID=America/Los_Angeles:20231215T114500
DTSTAMP:20260421T080616
CREATED:20231129T182841Z
LAST-MODIFIED:20231129T182841Z
UID:10000466-1702630800-1702640700@arize.com
SUMMARY:Arize Holiday Special: 'Tis the Season of LLMs
DESCRIPTION:
URL:https://arize.com/community-events/arize-holiday-special-tis-the-season-of-llms/
LOCATION:Virtual\, United States
ATTACH;FMTTYPE=image/png:https://arize.com/wp-content/uploads/2023/11/holiday-banner-right.png
END:VEVENT
BEGIN:VEVENT
DTSTART;TZID=America/Los_Angeles:20231220T101500
DTEND;TZID=America/Los_Angeles:20231220T110000
DTSTAMP:20260421T080616
CREATED:20231218T175009Z
LAST-MODIFIED:20231218T180900Z
UID:10000471-1703067300-1703070000@arize.com
SUMMARY:Community Paper Reading: A Deep Dive Into Generative's Newest Models: Gemini vs Mistral (Mixtral-8x7B)
DESCRIPTION:
URL:https://arize.com/community-events/community-paper-reading-debating-llms-gemini-vs-mistral-mixtral-8x7b/
LOCATION:Virtual\, United States
END:VEVENT
END:VCALENDAR