BEGIN:VCALENDAR
VERSION:2.0
PRODID:-//Arize AI - ECPv6.15.20//NONSGML v1.0//EN
CALSCALE:GREGORIAN
METHOD:PUBLISH
X-WR-CALNAME:Arize AI
X-ORIGINAL-URL:https://arize.com
X-WR-CALDESC:Events for Arize AI
REFRESH-INTERVAL;VALUE=DURATION:PT1H
X-Robots-Tag:noindex
X-PUBLISHED-TTL:PT1H
BEGIN:VTIMEZONE
TZID:America/Los_Angeles
BEGIN:DAYLIGHT
TZOFFSETFROM:-0800
TZOFFSETTO:-0700
TZNAME:PDT
DTSTART:20230312T100000
END:DAYLIGHT
BEGIN:STANDARD
TZOFFSETFROM:-0700
TZOFFSETTO:-0800
TZNAME:PST
DTSTART:20231105T090000
END:STANDARD
BEGIN:DAYLIGHT
TZOFFSETFROM:-0800
TZOFFSETTO:-0700
TZNAME:PDT
DTSTART:20240310T100000
END:DAYLIGHT
BEGIN:STANDARD
TZOFFSETFROM:-0700
TZOFFSETTO:-0800
TZNAME:PST
DTSTART:20241103T090000
END:STANDARD
BEGIN:DAYLIGHT
TZOFFSETFROM:-0800
TZOFFSETTO:-0700
TZNAME:PDT
DTSTART:20250309T100000
END:DAYLIGHT
BEGIN:STANDARD
TZOFFSETFROM:-0700
TZOFFSETTO:-0800
TZNAME:PST
DTSTART:20251102T090000
END:STANDARD
END:VTIMEZONE
BEGIN:VEVENT
DTSTART;TZID=America/Los_Angeles:20240110T101500
DTEND;TZID=America/Los_Angeles:20240110T110000
DTSTAMP:20260421T062833
CREATED:20240103T191907Z
LAST-MODIFIED:20240103T191907Z
UID:10000472-1704881700-1704884400@arize.com
SUMMARY:Community Paper Reading: A Deep Dive Into Generative's Newest Models: Gemini vs Mistral (Mixtral-8x7B) - Part Two
DESCRIPTION:
URL:https://arize.com/community-events/community-paper-reading-a-deep-dive-into-generatives-newest-models-gemini-vs-mistral-mixtral-8x7b-part-two/
LOCATION:Virtual\, United States
END:VEVENT
BEGIN:VEVENT
DTSTART;TZID=America/Los_Angeles:20240118T090000
DTEND;TZID=America/Los_Angeles:20240118T103000
DTSTAMP:20260421T062833
CREATED:20240109T183113Z
LAST-MODIFIED:20240109T183113Z
UID:10000473-1705568400-1705573800@arize.com
SUMMARY:AI for Ukraine
DESCRIPTION:
URL:https://arize.com/community-events/ai-for-ukraine/
LOCATION:Virtual\, United States
END:VEVENT
BEGIN:VEVENT
DTSTART;TZID=America/Los_Angeles:20240119T090000
DTEND;TZID=America/Los_Angeles:20240119T100000
DTSTAMP:20260421T062833
CREATED:20240119T170448Z
LAST-MODIFIED:20240119T170525Z
UID:10000476-1705654800-1705658400@arize.com
SUMMARY:Troubleshooting Large Language Models - an Interview with Amber Roberts
DESCRIPTION:
URL:https://arize.com/community-events/troubleshooting-large-language-models-an-interview-with-amber-roberts/
LOCATION:Virtual\, United States
END:VEVENT
BEGIN:VEVENT
DTSTART;TZID=America/Los_Angeles:20240124T101500
DTEND;TZID=America/Los_Angeles:20240124T110000
DTSTAMP:20260421T062833
CREATED:20240111T175546Z
LAST-MODIFIED:20240111T175600Z
UID:10000475-1706091300-1706094000@arize.com
SUMMARY:Community Paper Reading: Phi-2 – Small Language Models (SLMs) vs. LLMs
DESCRIPTION:
URL:https://arize.com/community-events/community-paper-reading-phi-2-small-language-models-slms-vs-llms/
LOCATION:Virtual\, United States
ATTACH;FMTTYPE=image/jpeg:https://arize.com/wp-content/uploads/2024/01/Community-Paper-Reading-SLMs-Small-Language-Models-vs-LLMs-Luma.jpg
END:VEVENT
BEGIN:VEVENT
DTSTART;TZID=America/Los_Angeles:20240131T100000
DTEND;TZID=America/Los_Angeles:20240131T104500
DTSTAMP:20260421T062833
CREATED:20240109T215814Z
LAST-MODIFIED:20240109T215814Z
UID:10000474-1706695200-1706697900@arize.com
SUMMARY:RAG Time! Evaluate RAG with LLM Evals and Benchmarking
DESCRIPTION:
URL:https://arize.com/community-events/rag-time-evaluate-rag-with-llm-evals-and-benchmarking/
LOCATION:Virtual\, United States
ATTACH;FMTTYPE=image/jpeg:https://arize.com/wp-content/uploads/2024/01/RAG-time-Luma.jpg
END:VEVENT
END:VCALENDAR