BEGIN:VCALENDAR
VERSION:2.0
PRODID:-//Arize AI - ECPv6.15.20//NONSGML v1.0//EN
CALSCALE:GREGORIAN
METHOD:PUBLISH
X-WR-CALNAME:Arize AI
X-ORIGINAL-URL:https://arize.com
X-WR-CALDESC:Events for Arize AI
REFRESH-INTERVAL;VALUE=DURATION:PT1H
X-Robots-Tag:noindex
X-PUBLISHED-TTL:PT1H
BEGIN:VTIMEZONE
TZID:America/Los_Angeles
BEGIN:DAYLIGHT
TZOFFSETFROM:-0800
TZOFFSETTO:-0700
TZNAME:PDT
DTSTART:20230312T100000
END:DAYLIGHT
BEGIN:STANDARD
TZOFFSETFROM:-0700
TZOFFSETTO:-0800
TZNAME:PST
DTSTART:20231105T090000
END:STANDARD
BEGIN:DAYLIGHT
TZOFFSETFROM:-0800
TZOFFSETTO:-0700
TZNAME:PDT
DTSTART:20240310T100000
END:DAYLIGHT
BEGIN:STANDARD
TZOFFSETFROM:-0700
TZOFFSETTO:-0800
TZNAME:PST
DTSTART:20241103T090000
END:STANDARD
BEGIN:DAYLIGHT
TZOFFSETFROM:-0800
TZOFFSETTO:-0700
TZNAME:PDT
DTSTART:20250309T100000
END:DAYLIGHT
BEGIN:STANDARD
TZOFFSETFROM:-0700
TZOFFSETTO:-0800
TZNAME:PST
DTSTART:20251102T090000
END:STANDARD
END:VTIMEZONE
BEGIN:VEVENT
DTSTART;TZID=America/Los_Angeles:20240207T101500
DTEND;TZID=America/Los_Angeles:20240207T110000
DTSTAMP:20260421T051351
CREATED:20240202T232902Z
LAST-MODIFIED:20240202T232902Z
UID:10000479-1707300900-1707303600@arize.com
SUMMARY:Community Paper Reading: RAG vs Fine-tuning
DESCRIPTION:
URL:https://arize.com/community-events/community-paper-reading-rag-vs-fine-tuning/
LOCATION:Virtual\, United States
ATTACH;FMTTYPE=image/jpeg:https://arize.com/wp-content/uploads/2024/02/RAG-vs-Fine-tuning-social.jpg
END:VEVENT
BEGIN:VEVENT
DTSTART;TZID=America/Los_Angeles:20240207T183000
DTEND;TZID=America/Los_Angeles:20240207T203000
DTSTAMP:20260421T051351
CREATED:20240124T000427Z
LAST-MODIFIED:20240124T000427Z
UID:10000477-1707330600-1707337800@arize.com
SUMMARY:Rocky Mountain AI Interest Group: The ABCs of GPTs
DESCRIPTION:
URL:https://arize.com/community-events/rocky-mountain-ai-interest-group-the-abcs-of-gpts/
LOCATION:CU Boulder
END:VEVENT
BEGIN:VEVENT
DTSTART;TZID=America/Los_Angeles:20240213T173000
DTEND;TZID=America/Los_Angeles:20240213T203000
DTSTAMP:20260421T051351
CREATED:20240129T233013Z
LAST-MODIFIED:20240129T233013Z
UID:10000478-1707845400-1707856200@arize.com
SUMMARY:Evaluating LLMs: Needle in a Haystack
DESCRIPTION:​LLM evaluation is a discipline where confusion reigns and foundation model builders are effectively grading their own homework. \n​Building on the viral threads on X/Twitter\,  Greg Kamradt\, Robert Nishihara\, and Jason Lopatecki discuss highlights from Arize AI’s ongoing research on how major foundation models – from OpenAI’s GPT-4 to Mistral and Anthropic’s Claude – are stacking up against each other at important tasks and emerging LLM use cases\, covering and explaining the importance of results of Needle in a Haystack tests and other evals results on hallucination detection on private data\, question-and-answer\, code functionality\, and more. \n​Curious which foundation models your company should be using for a specific use case – and which to avoid? You won’t want to miss this meetup!
URL:https://arize.com/community-events/evaluating-llms-needle-in-a-haystack/
LOCATION:San Francisco\, United States
ATTACH;FMTTYPE=image/jpeg:https://arize.com/wp-content/uploads/2024/01/Evaluating-LLMs-Needle-in-a-Haystack-resource-image.jpg
END:VEVENT
BEGIN:VEVENT
DTSTART;TZID=America/Los_Angeles:20240220T173000
DTEND;TZID=America/Los_Angeles:20240220T203000
DTSTAMP:20260421T051351
CREATED:20240212T204849Z
LAST-MODIFIED:20240212T205222Z
UID:10000480-1708450200-1708461000@arize.com
SUMMARY:Path to Production: LLM System Evaluations and Observability
DESCRIPTION:
URL:https://arize.com/community-events/unstructured-data-in-llms-2/
LOCATION:San Francisco\, United States
END:VEVENT
BEGIN:VEVENT
DTSTART;TZID=America/Los_Angeles:20240221T101500
DTEND;TZID=America/Los_Angeles:20240221T110000
DTSTAMP:20260421T051351
CREATED:20240216T232326Z
LAST-MODIFIED:20240220T205717Z
UID:10000483-1708510500-1708513200@arize.com
SUMMARY:Community Paper Reading: Exploring Sora & Evaluating Large Video Generation Models
DESCRIPTION:
URL:https://arize.com/community-events/community-paper-reading-exploring-sora-evaluating-large-video-generation-models/
LOCATION:Virtual\, United States
ATTACH;FMTTYPE=image/jpeg:https://arize.com/wp-content/uploads/2024/02/Exploring-SORA-social-1.jpg
END:VEVENT
BEGIN:VEVENT
DTSTART;TZID=America/Los_Angeles:20240222T093000
DTEND;TZID=America/Los_Angeles:20240222T173000
DTSTAMP:20260421T051351
CREATED:20240212T205550Z
LAST-MODIFIED:20240212T205550Z
UID:10000481-1708594200-1708623000@arize.com
SUMMARY:DevOps for GenAI Hackathon SF by MongoDB
DESCRIPTION:
URL:https://arize.com/community-events/devops-for-genai-hackathon-sf-by-mongodb/
LOCATION:San Francisco\, United States
END:VEVENT
END:VCALENDAR