BEGIN:VCALENDAR
VERSION:2.0
PRODID:-//Arize AI - ECPv6.15.20//NONSGML v1.0//EN
CALSCALE:GREGORIAN
METHOD:PUBLISH
X-WR-CALNAME:Arize AI
X-ORIGINAL-URL:https://arize.com
X-WR-CALDESC:Events for Arize AI
REFRESH-INTERVAL;VALUE=DURATION:PT1H
X-Robots-Tag:noindex
X-PUBLISHED-TTL:PT1H
BEGIN:VTIMEZONE
TZID:America/Los_Angeles
BEGIN:DAYLIGHT
TZOFFSETFROM:-0800
TZOFFSETTO:-0700
TZNAME:PDT
DTSTART:20230312T100000
END:DAYLIGHT
BEGIN:STANDARD
TZOFFSETFROM:-0700
TZOFFSETTO:-0800
TZNAME:PST
DTSTART:20231105T090000
END:STANDARD
BEGIN:DAYLIGHT
TZOFFSETFROM:-0800
TZOFFSETTO:-0700
TZNAME:PDT
DTSTART:20240310T100000
END:DAYLIGHT
BEGIN:STANDARD
TZOFFSETFROM:-0700
TZOFFSETTO:-0800
TZNAME:PST
DTSTART:20241103T090000
END:STANDARD
BEGIN:DAYLIGHT
TZOFFSETFROM:-0800
TZOFFSETTO:-0700
TZNAME:PDT
DTSTART:20250309T100000
END:DAYLIGHT
BEGIN:STANDARD
TZOFFSETFROM:-0700
TZOFFSETTO:-0800
TZNAME:PST
DTSTART:20251102T090000
END:STANDARD
END:VTIMEZONE
BEGIN:VEVENT
DTSTART;TZID=America/Los_Angeles:20240501T173000
DTEND;TZID=America/Los_Angeles:20240501T203000
DTSTAMP:20260421T012928
CREATED:20240416T010318Z
LAST-MODIFIED:20240416T010318Z
UID:10000503-1714584600-1714595400@arize.com
SUMMARY:DSPy End-to-End
DESCRIPTION:
URL:https://arize.com/community-events/dspy-end-to-end/
LOCATION:San Francisco\, United States
END:VEVENT
BEGIN:VEVENT
DTSTART;VALUE=DATE:20240508
DTEND;VALUE=DATE:20240510
DTSTAMP:20260421T012928
CREATED:20240429T225616Z
LAST-MODIFIED:20240429T225616Z
UID:10000508-1715126400-1715299199@arize.com
SUMMARY:Gen AI Tools Infra & Open Source Demo Days
DESCRIPTION:
URL:https://arize.com/community-events/gen-ai-tools-infra-open-source-demo-days/
LOCATION:Virtual\, United States
END:VEVENT
BEGIN:VEVENT
DTSTART;TZID=America/Los_Angeles:20240508T101500
DTEND;TZID=America/Los_Angeles:20240508T110000
DTSTAMP:20260421T012928
CREATED:20240506T170500Z
LAST-MODIFIED:20240506T170500Z
UID:10000511-1715163300-1715166000@arize.com
SUMMARY:Community Paper Reading: Who Validates and Validators?
DESCRIPTION:
URL:https://arize.com/community-events/community-paper-reading-who-validates-and-validators/
LOCATION:Virtual\, United States
END:VEVENT
BEGIN:VEVENT
DTSTART;TZID=America/Los_Angeles:20240509T083000
DTEND;TZID=America/Los_Angeles:20240509T170000
DTSTAMP:20260421T012928
CREATED:20240506T170613Z
LAST-MODIFIED:20240506T170613Z
UID:10000512-1715243400-1715274000@arize.com
SUMMARY:Path to Production: LLM System Evaluations and Observability
DESCRIPTION:
URL:https://arize.com/community-events/path-to-production-llm-system-evaluations-and-observability/
LOCATION:Sunnyvale\, CA
END:VEVENT
BEGIN:VEVENT
DTSTART;TZID=America/Los_Angeles:20240509T100000
DTEND;TZID=America/Los_Angeles:20240509T104500
DTSTAMP:20260421T012928
CREATED:20240430T000822Z
LAST-MODIFIED:20240430T000822Z
UID:10000509-1715248800-1715251500@arize.com
SUMMARY:SQL Generation Evals: LLMs-as-a-Judge
DESCRIPTION:
URL:https://arize.com/community-events/sql-generation-evals-llms-as-a-judge/
LOCATION:Virtual\, United States
ATTACH;FMTTYPE=image/jpeg:https://arize.com/wp-content/uploads/2024/04/LLM-Evaluations2-Linkedin-Series-promo.jpg
END:VEVENT
BEGIN:VEVENT
DTSTART;TZID=America/Los_Angeles:20240516T090000
DTEND;TZID=America/Los_Angeles:20240516T153000
DTSTAMP:20260421T012928
CREATED:20240419T234223Z
LAST-MODIFIED:20240419T234310Z
UID:10000504-1715850000-1715873400@arize.com
SUMMARY:Index Conference 2024
DESCRIPTION:
URL:https://arize.com/community-events/index-conference-2024/
LOCATION:Mountain View\, CA
END:VEVENT
BEGIN:VEVENT
DTSTART;TZID=America/Los_Angeles:20240516T100000
DTEND;TZID=America/Los_Angeles:20240516T104500
DTSTAMP:20260421T012928
CREATED:20240430T000923Z
LAST-MODIFIED:20240430T000923Z
UID:10000510-1715853600-1715856300@arize.com
SUMMARY:LLM Evals for Router-Based Architectures
DESCRIPTION:
URL:https://arize.com/community-events/llm-evals-for-router-based-architectures/
LOCATION:Virtual\, United States
ATTACH;FMTTYPE=image/jpeg:https://arize.com/wp-content/uploads/2024/04/LLM-Evaluations2-Linkedin-Series-promo.jpg
END:VEVENT
BEGIN:VEVENT
DTSTART;VALUE=DATE:20240521
DTEND;VALUE=DATE:20240524
DTSTAMP:20260421T012928
CREATED:20240429T224113Z
LAST-MODIFIED:20240429T224113Z
UID:10000507-1716249600-1716508799@arize.com
SUMMARY:Microsoft Build
DESCRIPTION:mi
URL:https://arize.com/community-events/microsoft-build/
LOCATION:Seattle\, WA
END:VEVENT
BEGIN:VEVENT
DTSTART;TZID=America/Los_Angeles:20240521T090000
DTEND;TZID=America/Los_Angeles:20240521T094500
DTSTAMP:20260421T012928
CREATED:20240425T153927Z
LAST-MODIFIED:20240425T153927Z
UID:10000506-1716282000-1716284700@arize.com
SUMMARY:Improving and Evaluating Your RAG Application
DESCRIPTION:
URL:https://arize.com/community-events/improving-and-evaluating-your-rag-application/
LOCATION:Virtual\, United States
ATTACH;FMTTYPE=image/jpeg:https://arize.com/wp-content/uploads/2024/04/Mongo-Social.jpg
END:VEVENT
BEGIN:VEVENT
DTSTART;TZID=America/Los_Angeles:20240521T173000
DTEND;TZID=America/Los_Angeles:20240521T200000
DTSTAMP:20260421T012928
CREATED:20240520T192520Z
LAST-MODIFIED:20240520T192520Z
UID:10000522-1716312600-1716321600@arize.com
SUMMARY:AGI Builders Meetup SF
DESCRIPTION:
URL:https://arize.com/community-events/agi-builders-meetup-sf/
LOCATION:San Francisco\, CA\, San Francisco\, CA\, United States
END:VEVENT
BEGIN:VEVENT
DTSTART;TZID=America/Los_Angeles:20240522T101500
DTEND;TZID=America/Los_Angeles:20240522T110000
DTSTAMP:20260421T012928
CREATED:20240514T202324Z
LAST-MODIFIED:20240514T202405Z
UID:10000518-1716372900-1716375600@arize.com
SUMMARY:Community Paper Reading: Trustworthy LLMs – a Survey and Guideline for Evaluating Large Language Models' Alignment
DESCRIPTION:
URL:https://arize.com/community-events/community-paper-reading-trustworthy-llms-a-survey-and-guideline-for-evaluating-large-language-models-alignment/
LOCATION:Virtual\, United States
END:VEVENT
BEGIN:VEVENT
DTSTART;TZID=America/Los_Angeles:20240531T134500
DTEND;TZID=America/Los_Angeles:20240531T141500
DTSTAMP:20260421T012928
CREATED:20240514T225950Z
LAST-MODIFIED:20240514T225950Z
UID:10000519-1717163100-1717164900@arize.com
SUMMARY:GenAI Summit SF 2024 | Path to Production: LLM Evaluations and Observability with Jason Lopatecki
DESCRIPTION:
URL:https://arize.com/community-events/genai-summit-sf-2024-path-to-production-llm-evaluations-and-observability-with-jason-lopatecki/
LOCATION:San Francisco\, CA\, San Francisco\, CA\, United States
END:VEVENT
END:VCALENDAR