BEGIN:VCALENDAR
VERSION:2.0
PRODID:-//Arize AI - ECPv6.15.20//NONSGML v1.0//EN
CALSCALE:GREGORIAN
METHOD:PUBLISH
X-WR-CALNAME:Arize AI
X-ORIGINAL-URL:https://arize.com
X-WR-CALDESC:Events for Arize AI
REFRESH-INTERVAL;VALUE=DURATION:PT1H
X-Robots-Tag:noindex
X-PUBLISHED-TTL:PT1H
BEGIN:VTIMEZONE
TZID:America/Los_Angeles
BEGIN:DAYLIGHT
TZOFFSETFROM:-0800
TZOFFSETTO:-0700
TZNAME:PDT
DTSTART:20230312T100000
END:DAYLIGHT
BEGIN:STANDARD
TZOFFSETFROM:-0700
TZOFFSETTO:-0800
TZNAME:PST
DTSTART:20231105T090000
END:STANDARD
BEGIN:DAYLIGHT
TZOFFSETFROM:-0800
TZOFFSETTO:-0700
TZNAME:PDT
DTSTART:20240310T100000
END:DAYLIGHT
BEGIN:STANDARD
TZOFFSETFROM:-0700
TZOFFSETTO:-0800
TZNAME:PST
DTSTART:20241103T090000
END:STANDARD
BEGIN:DAYLIGHT
TZOFFSETFROM:-0800
TZOFFSETTO:-0700
TZNAME:PDT
DTSTART:20250309T100000
END:DAYLIGHT
BEGIN:STANDARD
TZOFFSETFROM:-0700
TZOFFSETTO:-0800
TZNAME:PST
DTSTART:20251102T090000
END:STANDARD
END:VTIMEZONE
BEGIN:VEVENT
DTSTART;TZID=America/Los_Angeles:20241001T080000
DTEND;TZID=America/Los_Angeles:20241001T170000
DTSTAMP:20260420T182601
CREATED:20240907T000404Z
LAST-MODIFIED:20240907T000404Z
UID:10000553-1727769600-1727802000@arize.com
SUMMARY:Ray Summit: Beyond Black Boxes - Evaluating AI Agents
DESCRIPTION:
URL:https://arize.com/community-events/ray-summit-beyond-black-boxes-evaluating-ai-agents/
LOCATION:San Francisco\, CA\, San Francisco\, CA\, United States
END:VEVENT
BEGIN:VEVENT
DTSTART;TZID=America/Los_Angeles:20241001T120000
DTEND;TZID=America/Los_Angeles:20241001T130000
DTSTAMP:20260420T182601
CREATED:20240913T204233Z
LAST-MODIFIED:20240930T222808Z
UID:10000556-1727784000-1727787600@arize.com
SUMMARY:AI Agent Mastery Session 4 – Is Your Agent Stuck in a Loop?
DESCRIPTION:
URL:https://arize.com/resource/ai-agents-mastery
LOCATION:Virtual\, United States
ATTACH;FMTTYPE=image/jpeg:https://arize.com/wp-content/uploads/2024/09/Session-4_-Is-Your-Agent-Stuck-social-NoCTA-NoDate.jpg
END:VEVENT
BEGIN:VEVENT
DTSTART;TZID=America/Los_Angeles:20241007T050000
DTEND;TZID=America/Los_Angeles:20241007T200000
DTSTAMP:20260420T182601
CREATED:20240913T205030Z
LAST-MODIFIED:20240913T205030Z
UID:10000559-1728277200-1728331200@arize.com
SUMMARY:Awesome AI Dev Tools Meetup
DESCRIPTION:
URL:https://arize.com/community-events/awesome-ai-dev-tools-meetup/
LOCATION:San Francisco\, CA\, San Francisco\, CA\, United States
END:VEVENT
BEGIN:VEVENT
DTSTART;TZID=America/Los_Angeles:20241008T120000
DTEND;TZID=America/Los_Angeles:20241008T130000
DTSTAMP:20260420T182601
CREATED:20240906T232237Z
LAST-MODIFIED:20241001T204035Z
UID:10000549-1728388800-1728392400@arize.com
SUMMARY:AI Agent Mastery Session 5 – Agents Masterclass Part 1 ft. Jerry Liu\, LlamaIndex
DESCRIPTION:
URL:https://arize.com/resource/ai-agents-mastery
LOCATION:Virtual\, United States
ATTACH;FMTTYPE=image/jpeg:https://arize.com/wp-content/uploads/2024/09/Session-5_-Agents-Masterclass-Pt1-Social-noCTA-noDate.jpg
END:VEVENT
BEGIN:VEVENT
DTSTART;TZID=America/Los_Angeles:20241009T101500
DTEND;TZID=America/Los_Angeles:20241009T110000
DTSTAMP:20260420T182601
CREATED:20241001T205841Z
LAST-MODIFIED:20241001T205841Z
UID:10000566-1728468900-1728471600@arize.com
SUMMARY:Community Paper Reading: Exploring Google's NotebookLM
DESCRIPTION:
URL:https://arize.com/community-events/community-paper-reading-exploring-googles-notebooklm/
LOCATION:Virtual\, United States
END:VEVENT
BEGIN:VEVENT
DTSTART;VALUE=DATE:20241011
DTEND;VALUE=DATE:20241014
DTSTAMP:20260420T182601
CREATED:20240808T213859Z
LAST-MODIFIED:20240808T213859Z
UID:10000442-1728604800-1728863999@arize.com
SUMMARY:Agentic RAG-a-Thon
DESCRIPTION:
URL:https://arize.com/community-events/agentic-rag-a-thon/
LOCATION:Palo Alto\, CA
END:VEVENT
BEGIN:VEVENT
DTSTART;TZID=America/Los_Angeles:20241015T120000
DTEND;TZID=America/Los_Angeles:20241015T130000
DTSTAMP:20260420T182601
CREATED:20240913T204547Z
LAST-MODIFIED:20240913T204547Z
UID:10000558-1728993600-1728997200@arize.com
SUMMARY:AI Agent Mastery Session 6 – AutoGen: From Architecture to Optimization
DESCRIPTION:
URL:https://arize.com/community-events/ai-agent-mastery-session-6-autogen-from-architecture-to-optimization/
LOCATION:Virtual\, United States
END:VEVENT
BEGIN:VEVENT
DTSTART;TZID=America/Los_Angeles:20241017T100000
DTEND;TZID=America/Los_Angeles:20241017T110000
DTSTAMP:20260420T182601
CREATED:20241007T221420Z
LAST-MODIFIED:20241014T173055Z
UID:10000570-1729159200-1729162800@arize.com
SUMMARY:Building and Evaluating Agentic RAG with Vectara and Arize
DESCRIPTION:
URL:https://arize.com/resource/agentic-rag-vectara-arize
LOCATION:Virtual\, United States
ATTACH;FMTTYPE=image/jpeg:https://arize.com/wp-content/uploads/2024/10/Resource-Image-Building-and-Evaluating-Agentic-RAG.jpg
END:VEVENT
BEGIN:VEVENT
DTSTART;TZID=America/Los_Angeles:20241018T080000
DTEND;TZID=America/Los_Angeles:20241020T170000
DTSTAMP:20260420T182601
CREATED:20240913T205305Z
LAST-MODIFIED:20240913T205305Z
UID:10000560-1729238400-1729443600@arize.com
SUMMARY:Cal Hacks 11.0
DESCRIPTION:
URL:https://arize.com/community-events/cal-hacks-11-0/
LOCATION:San Francisco\, CA\, San Francisco\, CA\, United States
END:VEVENT
BEGIN:VEVENT
DTSTART;TZID=America/Los_Angeles:20241019T080000
DTEND;TZID=America/Los_Angeles:20241020T170000
DTSTAMP:20260420T182601
CREATED:20240913T205506Z
LAST-MODIFIED:20240913T205757Z
UID:10000561-1729324800-1729443600@arize.com
SUMMARY:TEDAI For Good Hackathon
DESCRIPTION:
URL:https://arize.com/community-events/tedai-for-good-hackathon/
LOCATION:San Francisco\, CA\, San Francisco\, CA\, United States
END:VEVENT
BEGIN:VEVENT
DTSTART;VALUE=DATE:20241023
DTEND;VALUE=DATE:20241024
DTSTAMP:20260420T182601
CREATED:20240913T205613Z
LAST-MODIFIED:20240913T205834Z
UID:10000562-1729641600-1729727999@arize.com
SUMMARY:TEDAI San Francisco
DESCRIPTION:
URL:https://arize.com/community-events/tedai-san-francisco/
LOCATION:San Francisco\, CA\, San Francisco\, CA\, United States
END:VEVENT
BEGIN:VEVENT
DTSTART;TZID=America/Los_Angeles:20241023T080000
DTEND;TZID=America/Los_Angeles:20241023T170000
DTSTAMP:20260420T182601
CREATED:20241021T182436Z
LAST-MODIFIED:20241021T182436Z
UID:10000572-1729670400-1729702800@arize.com
SUMMARY:Community Paper Reading: Exploring OpenAI's Swarm
DESCRIPTION:A
URL:https://arize.com/community-events/community-paper-reading-exploring-openais-swarm/
LOCATION:Virtual\, United States
END:VEVENT
BEGIN:VEVENT
DTSTART;TZID=America/Los_Angeles:20241029T080000
DTEND;TZID=America/Los_Angeles:20241029T170000
DTSTAMP:20260420T182601
CREATED:20240913T210414Z
LAST-MODIFIED:20240913T210451Z
UID:10000563-1730188800-1730221200@arize.com
SUMMARY:ODSC West: Demystifying LLM Evaluation w/ Jason Lopatecki
DESCRIPTION:
URL:https://arize.com/community-events/odsc-west-demystifying-llm-evaluation-w-jason-lopatecki/
LOCATION:Burlingame\, CA
END:VEVENT
BEGIN:VEVENT
DTSTART;TZID=America/Los_Angeles:20241029T100000
DTEND;TZID=America/Los_Angeles:20241029T110000
DTSTAMP:20260420T182601
CREATED:20241016T234819Z
LAST-MODIFIED:20241016T234819Z
UID:10000571-1730196000-1730199600@arize.com
SUMMARY:Building an Agent or Assistant: Real World Examples | Session #1
DESCRIPTION:
URL:https://arize.com/resource/building-ai-agents
LOCATION:Virtual\, United States
ATTACH;FMTTYPE=image/jpeg:https://arize.com/wp-content/uploads/2024/10/Building-an-agent-Resource-image-alt.jpg
END:VEVENT
END:VCALENDAR