BEGIN:VCALENDAR
VERSION:2.0
PRODID:-//Arize AI - ECPv6.15.20//NONSGML v1.0//EN
CALSCALE:GREGORIAN
METHOD:PUBLISH
X-WR-CALNAME:Arize AI
X-ORIGINAL-URL:https://arize.com
X-WR-CALDESC:Events for Arize AI
REFRESH-INTERVAL;VALUE=DURATION:PT1H
X-Robots-Tag:noindex
X-PUBLISHED-TTL:PT1H
BEGIN:VTIMEZONE
TZID:America/Los_Angeles
BEGIN:DAYLIGHT
TZOFFSETFROM:-0800
TZOFFSETTO:-0700
TZNAME:PDT
DTSTART:20240310T100000
END:DAYLIGHT
BEGIN:STANDARD
TZOFFSETFROM:-0700
TZOFFSETTO:-0800
TZNAME:PST
DTSTART:20241103T090000
END:STANDARD
BEGIN:DAYLIGHT
TZOFFSETFROM:-0800
TZOFFSETTO:-0700
TZNAME:PDT
DTSTART:20250309T100000
END:DAYLIGHT
BEGIN:STANDARD
TZOFFSETFROM:-0700
TZOFFSETTO:-0800
TZNAME:PST
DTSTART:20251102T090000
END:STANDARD
BEGIN:DAYLIGHT
TZOFFSETFROM:-0800
TZOFFSETTO:-0700
TZNAME:PDT
DTSTART:20260308T100000
END:DAYLIGHT
BEGIN:STANDARD
TZOFFSETFROM:-0700
TZOFFSETTO:-0800
TZNAME:PST
DTSTART:20261101T090000
END:STANDARD
END:VTIMEZONE
BEGIN:VEVENT
DTSTART;TZID=America/Los_Angeles:20250205T170000
DTEND;TZID=America/Los_Angeles:20250205T190000
DTSTAMP:20260420T211157
CREATED:20250113T194754Z
LAST-MODIFIED:20250124T190618Z
UID:10000594-1738774800-1738782000@arize.com
SUMMARY:From Vision to Reality: Founders on Scaling and Evaluating AI
DESCRIPTION:
URL:https://lu.ma/vision-to-reality
LOCATION:San Francisco\, CA\, San Francisco\, CA\, United States
ATTACH;FMTTYPE=image/jpeg:https://arize.com/wp-content/uploads/2025/01/From-Vision-to-Reality-social-1.jpg
END:VEVENT
BEGIN:VEVENT
DTSTART;VALUE=DATE:20250208
DTEND;VALUE=DATE:20250210
DTSTAMP:20260420T211157
CREATED:20250113T194129Z
LAST-MODIFIED:20250113T194129Z
UID:10000593-1738972800-1739145599@arize.com
SUMMARY:HackDuke 2025
DESCRIPTION:
URL:https://arize.com/community-events/hackduke-2025/
LOCATION:Duke University
END:VEVENT
BEGIN:VEVENT
DTSTART;TZID=America/Los_Angeles:20250210T170000
DTEND;TZID=America/Los_Angeles:20250210T200000
DTSTAMP:20260420T211157
CREATED:20250207T153625Z
LAST-MODIFIED:20250207T155519Z
UID:10000602-1739206800-1739217600@arize.com
SUMMARY:Qdrant AI Builders: Agents in the Enterprise @ AWS Loft with Arize\, CrewAI\, and n8n
DESCRIPTION:
URL:https://arize.com/community-events/qdrant-ai-builders-agents-in-the-enterprise-aws-loft-with-arize-crewai-and-n8n/
LOCATION:San Francisco\, CA\, San Francisco\, CA\, United States
END:VEVENT
BEGIN:VEVENT
DTSTART;TZID=America/Los_Angeles:20250211T080000
DTEND;TZID=America/Los_Angeles:20250211T170000
DTSTAMP:20260420T211157
CREATED:20250124T225855Z
LAST-MODIFIED:20250124T225855Z
UID:10000597-1739260800-1739293200@arize.com
SUMMARY:The Next Wave of AI Innovation and Practical Use Cases to Stay Ahead
DESCRIPTION:
URL:https://arize.com/community-events/the-next-wave-of-ai-innovation-and-practical-use-cases-to-stay-ahead/
LOCATION:Virtual\, United States
END:VEVENT
BEGIN:VEVENT
DTSTART;TZID=America/Los_Angeles:20250212T080000
DTEND;TZID=America/Los_Angeles:20250212T170000
DTSTAMP:20260420T211157
CREATED:20250124T230157Z
LAST-MODIFIED:20250124T230157Z
UID:10000598-1739347200-1739379600@arize.com
SUMMARY:AI Day Summit 2025
DESCRIPTION:
URL:https://arize.com/community-events/ai-day-summit-2025/
LOCATION:Virtual\, United States
END:VEVENT
BEGIN:VEVENT
DTSTART;TZID=America/Los_Angeles:20250212T101500
DTEND;TZID=America/Los_Angeles:20250212T110000
DTSTAMP:20260420T211157
CREATED:20250207T153808Z
LAST-MODIFIED:20250207T153808Z
UID:10000603-1739355300-1739358000@arize.com
SUMMARY:Arize Community Paper Reading - DeepSeek
DESCRIPTION:
URL:https://arize.com/community-events/arize-community-paper-reading-deepseek/
LOCATION:Virtual\, United States
END:VEVENT
BEGIN:VEVENT
DTSTART;TZID=America/Los_Angeles:20250212T170000
DTEND;TZID=America/Los_Angeles:20250212T200000
DTSTAMP:20260420T211157
CREATED:20250124T230428Z
LAST-MODIFIED:20250207T155436Z
UID:10000599-1739379600-1739390400@arize.com
SUMMARY:Agentic RAG in Action: Building and Evaluating with Airbyte & Arize Phoenix
DESCRIPTION:
URL:https://arize.com/community-events/agentic-rag-in-action-building-and-evaluating-with-airbyte-arize-phoenix/
LOCATION:San Francisco\, United States
END:VEVENT
BEGIN:VEVENT
DTSTART;VALUE=DATE:20250220
DTEND;VALUE=DATE:20250222
DTSTAMP:20260420T211157
CREATED:20250124T230712Z
LAST-MODIFIED:20250124T230712Z
UID:10000600-1740009600-1740182399@arize.com
SUMMARY:AI Engineer Summit
DESCRIPTION:
URL:https://arize.com/community-events/ai-engineer-summit/
LOCATION:NYC
END:VEVENT
BEGIN:VEVENT
DTSTART;TZID=America/Los_Angeles:20250226T101500
DTEND;TZID=America/Los_Angeles:20250226T105500
DTSTAMP:20260420T211157
CREATED:20250222T185729Z
LAST-MODIFIED:20250222T185729Z
UID:10000610-1740564900-1740567300@arize.com
SUMMARY:Arize Community Paper Reading: Unveiling OpenEval
DESCRIPTION:
URL:https://lu.ma/openeval
LOCATION:Virtual\, United States
END:VEVENT
BEGIN:VEVENT
DTSTART;TZID=America/Los_Angeles:20250226T170000
DTEND;TZID=America/Los_Angeles:20250226T200000
DTSTAMP:20260420T211157
CREATED:20250220T234920Z
LAST-MODIFIED:20250220T235101Z
UID:10000609-1740589200-1740600000@arize.com
SUMMARY:From the Frontlines: Expert Perspectives on LLM & Multi-Modal Evaluation
DESCRIPTION:
URL:https://lu.ma/multi-modal
LOCATION:San Francisco\, CA\, San Francisco\, CA\, United States
ATTACH;FMTTYPE=image/jpeg:https://arize.com/wp-content/uploads/2025/02/Audio-Image-Text-Social-noDate-noCTA.jpg
END:VEVENT
BEGIN:VEVENT
DTSTART;TZID=America/Los_Angeles:20250228T090000
DTEND;TZID=America/Los_Angeles:20250228T170000
DTSTAMP:20260420T211157
CREATED:20250124T230851Z
LAST-MODIFIED:20250214T061201Z
UID:10000601-1740733200-1740762000@arize.com
SUMMARY:AI in Production Mini Conference
DESCRIPTION:
URL:https://arize.com/community-events/ai-in-production-mini-conference/
LOCATION:San Francisco\, United States
END:VEVENT
END:VCALENDAR