BEGIN:VCALENDAR
VERSION:2.0
PRODID:-//Arize AI - ECPv6.15.20//NONSGML v1.0//EN
CALSCALE:GREGORIAN
METHOD:PUBLISH
X-WR-CALNAME:Arize AI
X-ORIGINAL-URL:https://arize.com
X-WR-CALDESC:Events for Arize AI
REFRESH-INTERVAL;VALUE=DURATION:PT1H
X-Robots-Tag:noindex
X-PUBLISHED-TTL:PT1H
BEGIN:VTIMEZONE
TZID:America/Los_Angeles
BEGIN:DAYLIGHT
TZOFFSETFROM:-0800
TZOFFSETTO:-0700
TZNAME:PDT
DTSTART:20240310T100000
END:DAYLIGHT
BEGIN:STANDARD
TZOFFSETFROM:-0700
TZOFFSETTO:-0800
TZNAME:PST
DTSTART:20241103T090000
END:STANDARD
BEGIN:DAYLIGHT
TZOFFSETFROM:-0800
TZOFFSETTO:-0700
TZNAME:PDT
DTSTART:20250309T100000
END:DAYLIGHT
BEGIN:STANDARD
TZOFFSETFROM:-0700
TZOFFSETTO:-0800
TZNAME:PST
DTSTART:20251102T090000
END:STANDARD
BEGIN:DAYLIGHT
TZOFFSETFROM:-0800
TZOFFSETTO:-0700
TZNAME:PDT
DTSTART:20260308T100000
END:DAYLIGHT
BEGIN:STANDARD
TZOFFSETFROM:-0700
TZOFFSETTO:-0800
TZNAME:PST
DTSTART:20261101T090000
END:STANDARD
END:VTIMEZONE
BEGIN:VEVENT
DTSTART;TZID=America/Los_Angeles:20250403T180000
DTEND;TZID=America/Los_Angeles:20250403T210000
DTSTAMP:20260420T235405
CREATED:20250320T220539Z
LAST-MODIFIED:20250320T220539Z
UID:10000616-1743703200-1743714000@arize.com
SUMMARY:The Bay Area AI Langflow Meetup
DESCRIPTION:Data
URL:https://arize.com/community-events/the-bay-area-ai-langflow-meetup/
LOCATION:Santa Clara\, CA
END:VEVENT
BEGIN:VEVENT
DTSTART;VALUE=DATE:20250409
DTEND;VALUE=DATE:20250412
DTSTAMP:20260420T235405
CREATED:20250408T233145Z
LAST-MODIFIED:20250408T233145Z
UID:10000618-1744156800-1744415999@arize.com
SUMMARY:Google Next 2025
DESCRIPTION:
URL:https://arize.com/community-events/google-next-2025/
LOCATION:Las Vegas\, NV
END:VEVENT
BEGIN:VEVENT
DTSTART;TZID=America/Los_Angeles:20250410T100000
DTEND;TZID=America/Los_Angeles:20250410T103000
DTSTAMP:20260420T235405
CREATED:20250318T233035Z
LAST-MODIFIED:20250424T233406Z
UID:10000614-1744279200-1744281000@arize.com
SUMMARY:Agents in the Wild: Priceline’s Journey into Evaluating Voice Applications
DESCRIPTION:
URL:https://arize.com/resource/agents-in-the-wild-priceline
LOCATION:Virtual\, United States
ATTACH;FMTTYPE=image/jpeg:https://arize.com/wp-content/uploads/2025/03/Pricelines-Journey-Social-V2-noDate-noCTA.jpg
END:VEVENT
BEGIN:VEVENT
DTSTART;TZID=America/Los_Angeles:20250415T100000
DTEND;TZID=America/Los_Angeles:20250415T104500
DTSTAMP:20260420T235405
CREATED:20250320T220306Z
LAST-MODIFIED:20250320T220556Z
UID:10000615-1744711200-1744713900@arize.com
SUMMARY:Workshop: Prompt Optimization for Agents using Arize Phoenix
DESCRIPTION:
URL:https://arize.com/community-events/workshop-prompt-optimization-for-agents-using-arize-phoenix/
LOCATION:Virtual\, United States
ATTACH;FMTTYPE=image/jpeg:https://arize.com/wp-content/uploads/2025/03/Prompt-Optimization-Social.jpg
END:VEVENT
BEGIN:VEVENT
DTSTART;TZID=America/Los_Angeles:20250417T023000
DTEND;TZID=America/Los_Angeles:20250417T170000
DTSTAMP:20260420T235405
CREATED:20250409T222931Z
LAST-MODIFIED:20250409T222931Z
UID:10000619-1744857000-1744909200@arize.com
SUMMARY:AI Meetup (NYC): Agentic AI
DESCRIPTION:
URL:https://www.aicamp.ai/event/eventdetails/W2025041714
LOCATION:NYC
END:VEVENT
BEGIN:VEVENT
DTSTART;TZID=America/Los_Angeles:20250423T173000
DTEND;TZID=America/Los_Angeles:20250423T200000
DTSTAMP:20260420T235405
CREATED:20250407T144021Z
LAST-MODIFIED:20250407T144021Z
UID:10000617-1745429400-1745438400@arize.com
SUMMARY:Arize AI Builders Meetup @ GitHub HQ
DESCRIPTION:
URL:https://lu.ma/arize-ai-builders-04.23.25
LOCATION:San Francisco\, CA\, San Francisco\, CA\, United States
ATTACH;FMTTYPE=image/jpeg:https://arize.com/wp-content/uploads/2025/04/AI-Builders-Meetup-Social-noCTA-noDate.jpg
END:VEVENT
BEGIN:VEVENT
DTSTART;TZID=America/Los_Angeles:20250430T090000
DTEND;TZID=America/Los_Angeles:20250430T100000
DTSTAMP:20260420T235405
CREATED:20250422T212630Z
LAST-MODIFIED:20250505T183218Z
UID:10000520-1746003600-1746007200@arize.com
SUMMARY:Build More Accurate AI Apps
DESCRIPTION:
URL:https://www.youtube.com/watch?v=c5RXIM-huWY
LOCATION:Virtual\, United States
END:VEVENT
BEGIN:VEVENT
DTSTART;TZID=America/Los_Angeles:20250430T101500
DTEND;TZID=America/Los_Angeles:20250430T104500
DTSTAMP:20260420T235405
CREATED:20250424T224414Z
LAST-MODIFIED:20250424T224814Z
UID:10000524-1746008100-1746009900@arize.com
SUMMARY:Arize Community Paper Reading: Letta's Sleep-time Compute
DESCRIPTION:
URL:https://lu.ma/sleep-time-compute
LOCATION:Virtual\, United States
ATTACH;FMTTYPE=image/jpeg:https://arize.com/wp-content/uploads/2025/04/CPR-Sleep-time-Compute-YT.jpg
END:VEVENT
END:VCALENDAR